BEGIN:VCALENDAR
VERSION:2.0
PRODID:-//ATV - Hallertau - ECPv6.15.20//NONSGML v1.0//EN
CALSCALE:GREGORIAN
METHOD:PUBLISH
X-ORIGINAL-URL:https://www.atv-hallertau.de
X-WR-CALDESC:Veranstaltungen für ATV - Hallertau
REFRESH-INTERVAL;VALUE=DURATION:PT1H
X-Robots-Tag:noindex
X-PUBLISHED-TTL:PT1H
BEGIN:VTIMEZONE
TZID:Europe/Berlin
BEGIN:DAYLIGHT
TZOFFSETFROM:+0100
TZOFFSETTO:+0200
TZNAME:CEST
DTSTART:20250330T010000
END:DAYLIGHT
BEGIN:STANDARD
TZOFFSETFROM:+0200
TZOFFSETTO:+0100
TZNAME:CET
DTSTART:20251026T010000
END:STANDARD
BEGIN:DAYLIGHT
TZOFFSETFROM:+0100
TZOFFSETTO:+0200
TZNAME:CEST
DTSTART:20260329T010000
END:DAYLIGHT
BEGIN:STANDARD
TZOFFSETFROM:+0200
TZOFFSETTO:+0100
TZNAME:CET
DTSTART:20261025T010000
END:STANDARD
BEGIN:DAYLIGHT
TZOFFSETFROM:+0100
TZOFFSETTO:+0200
TZNAME:CEST
DTSTART:20270328T010000
END:DAYLIGHT
BEGIN:STANDARD
TZOFFSETFROM:+0200
TZOFFSETTO:+0100
TZNAME:CET
DTSTART:20271031T010000
END:STANDARD
END:VTIMEZONE
BEGIN:VEVENT
DTSTART;TZID=Europe/Berlin:20260101T080000
DTEND;TZID=Europe/Berlin:20261231T170000
DTSTAMP:20260426T005037
CREATED:20260107T075527Z
LAST-MODIFIED:20260107T121225Z
UID:10000019-1767254400-1798736400@www.atv-hallertau.de
SUMMARY:Teleskopmaschinen
DESCRIPTION:Die einwandfreie Funktion von Maschinen und Geräten ist Voraussetzung für ein störungsfreies und sicheres Arbeiten. Daher hat der Arbeitgeber auch seine Arbeitsmittel regelmäßig\, jedoch mindestens einmal jährlich\, durch eine befähigte Person auf ihren betriebssicheren Zustand prüfen zu lassen (§ 14 – 6 BetrSichV). Die Betriebssicherheitsverordnung verpflichtet den Arbeitgeber durch eine Gefährdungsbeurteilung die Prüfung (Art\, Umfang\, Prüffristen und Qualifikation des Prüfers) selbst festzulegen und durchführen zu lassen. Die Prüfung an Arbeitsmittel etc. dürfen ausschließlich Befähigte (Sachkundige) Personen durchführen\, die aufgrund der Berufsausbildung\, Berufserfahrung und zeitnahen beruflichen Tätigkeit entsprechend Arbeitsmittel prüfen\, warten und ggf. instand setzen dürfen. Die wiederkehrenden Prüfungen liegen dabei in der Verantwortung des Betreibers. \nTermine sind das ganze Jahr telefonisch vereinbar\, hierfür gibt’s keine festen Termine.
URL:https://www.atv-hallertau.de/termine/teleskopmaschinen/
LOCATION:ATV Hallertau\, Dietersdorf 37\, Schweitenkirchen\, Bayern\, 85301\, Deutschland
ATTACH;FMTTYPE=image/jpeg:https://www.atv-hallertau.de/wp-content/uploads/2024/01/Teleskopmaschine.jpg
ORGANIZER;CN="ATV Hallertau":MAILTO:info@traurig-landtechnik.de
END:VEVENT
BEGIN:VEVENT
DTSTART;TZID=Europe/Berlin:20260123T080000
DTEND;TZID=Europe/Berlin:20260123T170000
DTSTAMP:20260426T005037
CREATED:20260107T090430Z
LAST-MODIFIED:20260107T122048Z
UID:10000030-1769155200-1769187600@www.atv-hallertau.de
SUMMARY:Seilwinden-Prüfung
DESCRIPTION:Die Unfallverhütungsvorschrift VSG3.1 „Technische Arbeitsmittel“ §19 verlangt\, dass Winden\, Hub- und Zuggeräte einschließlich der Tragkonstruktion sowie der Seilböcke vor der ersten Inbetriebnahme und nach wesentlichen Änderungen vor der Wiederinbetriebnahme\, jedoch mindestens einmal jährlich\, durch einen Sachkundigen geprüft werden. Die wiederkehrenden Prüfungen liegen dabei in der Verantwortung des Betreibers. \nDie Dauer der Prüfung is je ca. 1 Stunde. Falls Online alle Termine ausgebucht sind\, könnt Ihr euch gerne telefonisch bei uns melden. \n  \nONLINE TERMIN BUCHEN
URL:https://www.atv-hallertau.de/termine/seilwinden-pruefung/2026-01-23/
LOCATION:ATV Hallertau\, Dietersdorf 37\, Schweitenkirchen\, Bayern\, 85301\, Deutschland
ATTACH;FMTTYPE=image/jpeg:https://www.atv-hallertau.de/wp-content/uploads/2024/01/Seilwinde-Pruefungt.jpg
ORGANIZER;CN="ATV Hallertau":MAILTO:info@traurig-landtechnik.de
END:VEVENT
END:VCALENDAR